BEGIN:VCALENDAR
METHOD:PUBLISH
VERSION:2.0
PRODID:-//hacksw/handcal//NONSGML v1.0//EN
X-WR-TIMEZONE:Australia/Adelaide
CALSCALE:GREGORIAN
BEGIN:VEVENT
DTSTART;TZID=Australia/Adelaide:20221016T120000
DTEND;TZID=Australia/Adelaide:20221016T170000
UID:UNOXL8Q15YJCN4MDN1S69XOGGZRTQU0CPOU9FPEGHHV5TJ02O78QCYYQNTORKU7I
DTSTAMP:20260420T193748
LOCATION:Largs Pier Hotel
DESCRIPTION:You are warmly invited to the  SUBARU 4WD CLUB LUNCH Sunday 1
 6th October, 198 the Esplinade, Largs Bay. Arrive midday for a drink at th
 e bar and sit down at 1230 to order lunch. After the meal you can walk the
  Laargs Pier, drive and explore the scenic coastline,  head to Semaphore 
 and discover the quirky shops, the beach and many other attractions.  A m
 eal subsidy will apply per membeership.
URL;VALUE=URI:http://subaru4wd.asn.au/events/view.php?id=UNOXL8Q15YJCN4MDN
 1S69XOGGZRTQU0CPOU9FPEGHHV5TJ02O78QCYYQNTORKU7I
SUMMARY:Club Lunch
END:VEVENT
END:VCALENDAR
